Package: SharedObject Version: 1.22.0 Command: /Library/Frameworks/R.framework/Resources/bin/R CMD check --install=check:SharedObject.install-out.txt --library=/Library/Frameworks/R.framework/Resources/library --no-vignettes --timings SharedObject_1.22.0.tar.gz StartedAt: 2025-10-11 13:50:48 -0400 (Sat, 11 Oct 2025) EndedAt: 2025-10-11 13:52:23 -0400 (Sat, 11 Oct 2025) EllapsedTime: 95.1 seconds RetCode: 0 Status: WARNINGS CheckDir: SharedObject.Rcheck Warnings: 2