Package: Seqinfo Version: 1.0.0 Command: /home/biocbuild/bbs-3.22-bioc/R/bin/R CMD INSTALL Seqinfo StartedAt: 2025-11-11 15:18:34 -0500 (Tue, 11 Nov 2025) EndedAt: 2025-11-11 15:18:44 -0500 (Tue, 11 Nov 2025) EllapsedTime: 9.5 seconds RetCode: 0 Status: OK