Package: Seqinfo Version: 1.0.0 Command: /home/biocbuild/bbs-3.22-bioc/R/bin/R CMD build --keep-empty-dirs --no-resave-data --md5 Seqinfo StartedAt: 2025-11-11 20:10:58 -0500 (Tue, 11 Nov 2025) EndedAt: 2025-11-11 20:11:23 -0500 (Tue, 11 Nov 2025) EllapsedTime: 25.0 seconds RetCode: 0 Status: OK PackageFile: Seqinfo_1.0.0.tar.gz PackageFileSize: 248.7 KiB