Package: Seqinfo Version: 1.0.0 Command: rm -rf Seqinfo.buildbin-libdir && mkdir Seqinfo.buildbin-libdir && /Users/biocbuild/BBS/utils/build-universal.sh Seqinfo_1.0.0.tar.gz /Library/Frameworks/R.framework/Resources/bin/R Seqinfo.buildbin-libdir StartedAt: 2025-11-10 23:36:39 -0500 (Mon, 10 Nov 2025) EndedAt: 2025-11-10 23:36:44 -0500 (Mon, 10 Nov 2025) EllapsedTime: 5.1 seconds RetCode: 0 Status: OK PackageFile: Seqinfo_1.0.0.tgz PackageFileSize: 629.2 KiB