Package: SeqVarTools Version: 1.48.0 Command: /home/biocbuild/R/R/bin/R CMD INSTALL SeqVarTools StartedAt: 2025-11-13 21:30:52 -0000 (Thu, 13 Nov 2025) EndedAt: 2025-11-13 21:31:20 -0000 (Thu, 13 Nov 2025) EllapsedTime: 27.9 seconds RetCode: 0 Status: OK