Package: SeqVarTools Version: 1.48.0 Command: /home/biocbuild/R/R/bin/R CMD build --keep-empty-dirs --no-resave-data SeqVarTools StartedAt: 2025-11-14 05:20:37 -0000 (Fri, 14 Nov 2025) EndedAt: 2025-11-14 05:21:37 -0000 (Fri, 14 Nov 2025) EllapsedTime: 60.1 seconds RetCode: 0 Status: OK PackageFile: SeqVarTools_1.48.0.tar.gz PackageFileSize: 989.4 KiB