Package: SeqVarTools Version: 1.48.0 Command: /home/biocbuild/bbs-3.22-bioc/R/bin/R CMD INSTALL SeqVarTools StartedAt: 2025-11-11 15:27:43 -0500 (Tue, 11 Nov 2025) EndedAt: 2025-11-11 15:28:03 -0500 (Tue, 11 Nov 2025) EllapsedTime: 20.6 seconds RetCode: 0 Status: OK