Package: SeqVarTools Version: 1.46.0 Command: /home/biocbuild/bbs-3.21-bioc/R/bin/R CMD INSTALL SeqVarTools StartedAt: 2025-10-08 15:23:23 -0400 (Wed, 08 Oct 2025) EndedAt: 2025-10-08 15:23:44 -0400 (Wed, 08 Oct 2025) EllapsedTime: 20.8 seconds RetCode: 0 Status: OK