Package: SeqVarTools Version: 1.46.0 Command: /home/biocbuild/bbs-3.21-bioc/R/bin/R CMD build --keep-empty-dirs --no-resave-data SeqVarTools StartedAt: 2025-10-08 19:51:25 -0400 (Wed, 08 Oct 2025) EndedAt: 2025-10-08 19:52:11 -0400 (Wed, 08 Oct 2025) EllapsedTime: 46.0 seconds RetCode: 0 Status: OK PackageFile: SeqVarTools_1.46.0.tar.gz PackageFileSize: 1001 KiB