Package: SeqVarTools Version: 1.46.0 Command: rm -rf SeqVarTools.buildbin-libdir && mkdir SeqVarTools.buildbin-libdir && /Users/biocbuild/BBS/utils/build-universal.sh SeqVarTools_1.46.0.tar.gz /Library/Frameworks/R.framework/Resources/bin/R SeqVarTools.buildbin-libdir StartedAt: 2025-04-22 01:08:50 -0400 (Tue, 22 Apr 2025) EndedAt: 2025-04-22 01:09:24 -0400 (Tue, 22 Apr 2025) EllapsedTime: 33.3 seconds RetCode: 0 Status: OK PackageFile: SeqVarTools_1.46.0.tgz PackageFileSize: 1.426 MiB