Package: SeqVarTools Version: 1.46.0 Command: /Library/Frameworks/R.framework/Resources/bin/R CMD INSTALL SeqVarTools StartedAt: 2025-10-06 16:32:46 -0400 (Mon, 06 Oct 2025) EndedAt: 2025-10-06 16:33:11 -0400 (Mon, 06 Oct 2025) EllapsedTime: 25.1 seconds RetCode: 0 Status: OK