Package: SeqVarTools Version: 1.46.0 Command: /Library/Frameworks/R.framework/Resources/bin/R CMD build --keep-empty-dirs --no-resave-data SeqVarTools StartedAt: 2025-10-07 09:43:43 -0400 (Tue, 07 Oct 2025) EndedAt: 2025-10-07 09:44:56 -0400 (Tue, 07 Oct 2025) EllapsedTime: 73.6 seconds RetCode: 0 Status: OK PackageFile: SeqVarTools_1.46.0.tar.gz PackageFileSize: 999.8 KiB