Package: SeqVarTools Version: 1.46.0 Command: rm -rf SeqVarTools.buildbin-libdir && mkdir SeqVarTools.buildbin-libdir && /Users/biocbuild/BBS/utils/build-universal.sh SeqVarTools_1.46.0.tar.gz /Library/Frameworks/R.framework/Resources/bin/R SeqVarTools.buildbin-libdir StartedAt: 2025-10-08 23:03:11 -0400 (Wed, 08 Oct 2025) EndedAt: 2025-10-08 23:03:41 -0400 (Wed, 08 Oct 2025) EllapsedTime: 29.4 seconds RetCode: 0 Status: OK PackageFile: SeqVarTools_1.46.0.tgz PackageFileSize: 1.427 MiB