Package: SeqSQC Version: 1.32.0 Command: /home/biocbuild/bbs-3.22-bioc/R/bin/R CMD check --install=check:SeqSQC.install-out.txt --library=/home/biocbuild/bbs-3.22-bioc/R/site-library --timings SeqSQC_1.32.0.tar.gz StartedAt: 2025-11-12 04:06:11 -0500 (Wed, 12 Nov 2025) EndedAt: 2025-11-12 04:09:49 -0500 (Wed, 12 Nov 2025) EllapsedTime: 217.2 seconds RetCode: 0 Status: WARNINGS CheckDir: SeqSQC.Rcheck Warnings: 1