Package: SeqSQC Version: 1.32.0 Command: /home/biocbuild/bbs-3.22-bioc/R/bin/R CMD build --keep-empty-dirs --no-resave-data --md5 SeqSQC StartedAt: 2025-11-11 20:11:24 -0500 (Tue, 11 Nov 2025) EndedAt: 2025-11-11 20:12:18 -0500 (Tue, 11 Nov 2025) EllapsedTime: 54.1 seconds RetCode: 0 Status: OK PackageFile: SeqSQC_1.32.0.tar.gz PackageFileSize: 4.492 MiB