Package: SeqSQC Version: 1.30.0 Command: /home/biocbuild/bbs-3.21-bioc/R/bin/R CMD INSTALL SeqSQC StartedAt: 2025-10-15 15:26:10 -0400 (Wed, 15 Oct 2025) EndedAt: 2025-10-15 15:26:31 -0400 (Wed, 15 Oct 2025) EllapsedTime: 20.5 seconds RetCode: 0 Status: OK