Package: SeqSQC Version: 1.30.0 Command: /home/biocbuild/bbs-3.21-bioc/R/bin/R CMD build --keep-empty-dirs --no-resave-data SeqSQC StartedAt: 2025-10-15 19:52:42 -0400 (Wed, 15 Oct 2025) EndedAt: 2025-10-15 19:53:36 -0400 (Wed, 15 Oct 2025) EllapsedTime: 54.0 seconds RetCode: 0 Status: OK PackageFile: SeqSQC_1.30.0.tar.gz PackageFileSize: 4.49 MiB