Package: SeqSQC Version: 1.30.0 Command: /Library/Frameworks/R.framework/Resources/bin/R CMD INSTALL SeqSQC StartedAt: 2025-10-13 16:01:38 -0400 (Mon, 13 Oct 2025) EndedAt: 2025-10-13 16:02:01 -0400 (Mon, 13 Oct 2025) EllapsedTime: 23.4 seconds RetCode: 0 Status: OK