Package: SeqSQC Version: 1.30.0 Command: /Library/Frameworks/R.framework/Resources/bin/R CMD build --keep-empty-dirs --no-resave-data SeqSQC StartedAt: 2025-10-14 09:20:37 -0400 (Tue, 14 Oct 2025) EndedAt: 2025-10-14 09:21:53 -0400 (Tue, 14 Oct 2025) EllapsedTime: 76.5 seconds RetCode: 0 Status: OK PackageFile: SeqSQC_1.30.0.tar.gz PackageFileSize: 4.529 MiB