Package: SeqGate Version: 1.20.0 Command: /home/biocbuild/R/R/bin/R CMD INSTALL SeqGate StartedAt: 2025-11-13 21:24:37 -0000 (Thu, 13 Nov 2025) EndedAt: 2025-11-13 21:25:03 -0000 (Thu, 13 Nov 2025) EllapsedTime: 25.6 seconds RetCode: 0 Status: OK