Package: SeqGate Version: 1.20.0 Command: /home/biocbuild/bbs-3.22-bioc/R/bin/R CMD INSTALL SeqGate StartedAt: 2025-11-11 15:21:51 -0500 (Tue, 11 Nov 2025) EndedAt: 2025-11-11 15:22:10 -0500 (Tue, 11 Nov 2025) EllapsedTime: 19.1 seconds RetCode: 0 Status: OK