Package: SeqGate Version: 1.18.0 Command: /home/biocbuild/bbs-3.21-bioc/R/bin/R CMD build --keep-empty-dirs --no-resave-data SeqGate StartedAt: 2025-10-08 19:50:49 -0400 (Wed, 08 Oct 2025) EndedAt: 2025-10-08 19:51:31 -0400 (Wed, 08 Oct 2025) EllapsedTime: 42.1 seconds RetCode: 0 Status: OK PackageFile: SeqGate_1.18.0.tar.gz PackageFileSize: 248.7 KiB