Package: SeqGate Version: 1.18.0 Command: /Library/Frameworks/R.framework/Resources/bin/R CMD build --keep-empty-dirs --no-resave-data SeqGate StartedAt: 2025-10-07 09:41:06 -0400 (Tue, 07 Oct 2025) EndedAt: 2025-10-07 09:42:06 -0400 (Tue, 07 Oct 2025) EllapsedTime: 60.3 seconds RetCode: 0 Status: OK PackageFile: SeqGate_1.18.0.tar.gz PackageFileSize: 248.7 KiB