Package: SeqGSEA Version: 1.50.0 Command: /Library/Frameworks/R.framework/Resources/bin/R CMD INSTALL SeqGSEA StartedAt: 2025-11-03 15:28:49 -0500 (Mon, 03 Nov 2025) EndedAt: 2025-11-03 15:29:34 -0500 (Mon, 03 Nov 2025) EllapsedTime: 45.6 seconds RetCode: 0 Status: OK