Package: SeqGSEA Version: 1.50.0 Command: /Library/Frameworks/R.framework/Resources/bin/R CMD build --keep-empty-dirs --no-resave-data SeqGSEA StartedAt: 2025-11-03 18:46:07 -0500 (Mon, 03 Nov 2025) EndedAt: 2025-11-03 18:48:51 -0500 (Mon, 03 Nov 2025) EllapsedTime: 164.1 seconds RetCode: 0 Status: OK PackageFile: SeqGSEA_1.50.0.tar.gz PackageFileSize: 1.569 MiB