Package: SeqGSEA Version: 1.48.0 Command: /home/biocbuild/R/R/bin/R CMD INSTALL SeqGSEA StartedAt: 2025-10-13 20:40:15 -0000 (Mon, 13 Oct 2025) EndedAt: 2025-10-13 20:41:03 -0000 (Mon, 13 Oct 2025) EllapsedTime: 47.9 seconds RetCode: 0 Status: OK