Package: SeqGSEA Version: 1.48.0 Command: /Library/Frameworks/R.framework/Resources/bin/R CMD build --keep-empty-dirs --no-resave-data SeqGSEA StartedAt: 2025-04-21 17:38:40 -0400 (Mon, 21 Apr 2025) EndedAt: 2025-04-21 17:39:39 -0400 (Mon, 21 Apr 2025) EllapsedTime: 59.7 seconds RetCode: 0 Status: OK PackageFile: SeqGSEA_1.48.0.tar.gz PackageFileSize: 1.601 MiB