Package: SeqArray Version: 1.50.0 Command: /home/biocbuild/R/R/bin/R CMD build --keep-empty-dirs --no-resave-data SeqArray StartedAt: 2025-11-11 05:06:54 -0000 (Tue, 11 Nov 2025) EndedAt: 2025-11-11 05:09:21 -0000 (Tue, 11 Nov 2025) EllapsedTime: 147.1 seconds RetCode: 0 Status: OK PackageFile: SeqArray_1.50.0.tar.gz PackageFileSize: 3.228 MiB