Package: SeqArray Version: 1.50.0 Command: /home/biocbuild/bbs-3.22-bioc/R/bin/R CMD INSTALL SeqArray StartedAt: 2025-11-11 15:21:04 -0500 (Tue, 11 Nov 2025) EndedAt: 2025-11-11 15:21:44 -0500 (Tue, 11 Nov 2025) EllapsedTime: 40.5 seconds RetCode: 0 Status: OK