Package: SeqArray Version: 1.50.0 Command: /home/biocbuild/bbs-3.22-bioc/R/bin/R CMD check --install=check:SeqArray.install-out.txt --library=/home/biocbuild/bbs-3.22-bioc/R/site-library --timings SeqArray_1.50.0.tar.gz StartedAt: 2025-11-12 04:05:02 -0500 (Wed, 12 Nov 2025) EndedAt: 2025-11-12 04:10:27 -0500 (Wed, 12 Nov 2025) EllapsedTime: 324.4 seconds RetCode: 0 Status: OK CheckDir: SeqArray.Rcheck Warnings: 0