Package: SeqArray Version: 1.48.3 Command: /home/biocbuild/R/R/bin/R CMD check --install=check:SeqArray.install-out.txt --library=/home/biocbuild/R/R/site-library --no-vignettes --timings SeqArray_1.48.3.tar.gz StartedAt: 2025-10-10 13:51:06 -0000 (Fri, 10 Oct 2025) EndedAt: 2025-10-10 13:55:22 -0000 (Fri, 10 Oct 2025) EllapsedTime: 256.3 seconds RetCode: 0 Status: OK CheckDir: SeqArray.Rcheck Warnings: 0