Package: SeqArray Version: 1.48.3 Command: /home/biocbuild/R/R/bin/R CMD build --keep-empty-dirs --no-resave-data SeqArray StartedAt: 2025-09-26 05:55:18 -0000 (Fri, 26 Sep 2025) EndedAt: 2025-09-26 06:35:19 -0000 (Fri, 26 Sep 2025) EllapsedTime: 2400.8 seconds RetCode: None Status: TIMEOUT PackageFile: None PackageFileSize: NA