Package: SeqArray Version: 1.50.0 Command: /Library/Frameworks/R.framework/Resources/bin/R CMD check --install=check:SeqArray.install-out.txt --library=/Library/Frameworks/R.framework/Resources/library --no-vignettes --timings SeqArray_1.50.0.tar.gz StartedAt: 2025-10-30 22:02:18 -0400 (Thu, 30 Oct 2025) EndedAt: 2025-10-30 22:03:39 -0400 (Thu, 30 Oct 2025) EllapsedTime: 81.0 seconds RetCode: 0 Status: OK CheckDir: SeqArray.Rcheck Warnings: 0