Package: SeqArray Version: 1.48.3 Command: /Library/Frameworks/R.framework/Resources/bin/R CMD check --install=check:SeqArray.install-out.txt --library=/Library/Frameworks/R.framework/Resources/library --no-vignettes --timings SeqArray_1.48.3.tar.gz StartedAt: 2025-10-15 12:12:04 -0400 (Wed, 15 Oct 2025) EndedAt: 2025-10-15 12:16:13 -0400 (Wed, 15 Oct 2025) EllapsedTime: 248.9 seconds RetCode: 0 Status: OK CheckDir: SeqArray.Rcheck Warnings: 0