Package: SeqArray Version: 1.48.3 Command: /Library/Frameworks/R.framework/Resources/bin/R CMD build --keep-empty-dirs --no-resave-data SeqArray StartedAt: 2025-09-26 09:04:03 -0400 (Fri, 26 Sep 2025) EndedAt: 2025-09-26 09:07:02 -0400 (Fri, 26 Sep 2025) EllapsedTime: 179.0 seconds RetCode: 0 Status: OK PackageFile: SeqArray_1.48.3.tar.gz PackageFileSize: 3.713 MiB