Package: SemDist Version: 1.44.0 Command: /home/biocbuild/bbs-3.22-bioc/R/bin/R CMD INSTALL SemDist StartedAt: 2025-11-11 15:47:20 -0500 (Tue, 11 Nov 2025) EndedAt: 2025-11-11 15:47:33 -0500 (Tue, 11 Nov 2025) EllapsedTime: 13.4 seconds RetCode: 0 Status: OK