Package: SemDist Version: 1.44.0 Command: /home/biocbuild/bbs-3.22-bioc/R/bin/R CMD build --keep-empty-dirs --no-resave-data --md5 SemDist StartedAt: 2025-11-11 20:09:37 -0500 (Tue, 11 Nov 2025) EndedAt: 2025-11-11 20:10:11 -0500 (Tue, 11 Nov 2025) EllapsedTime: 34.0 seconds RetCode: 0 Status: OK PackageFile: SemDist_1.44.0.tar.gz PackageFileSize: 1.958 MiB