Package: SemDist Version: 1.42.0 Command: /Library/Frameworks/R.framework/Resources/bin/R CMD INSTALL SemDist StartedAt: 2025-10-13 16:25:55 -0400 (Mon, 13 Oct 2025) EndedAt: 2025-10-13 16:26:27 -0400 (Mon, 13 Oct 2025) EllapsedTime: 31.3 seconds RetCode: 0 Status: OK