Package: SemDist Version: 1.42.0 Command: /Library/Frameworks/R.framework/Resources/bin/R CMD build --keep-empty-dirs --no-resave-data SemDist StartedAt: 2025-10-13 22:34:23 -0400 (Mon, 13 Oct 2025) EndedAt: 2025-10-13 22:35:46 -0400 (Mon, 13 Oct 2025) EllapsedTime: 83.0 seconds RetCode: 0 Status: OK PackageFile: SemDist_1.42.0.tar.gz PackageFileSize: 1.953 MiB