Package: SemDist Version: 1.42.0 Command: /Library/Frameworks/R.framework/Resources/bin/R CMD build --keep-empty-dirs --no-resave-data SemDist StartedAt: 2025-09-30 09:11:44 -0400 (Tue, 30 Sep 2025) EndedAt: 2025-09-30 09:12:33 -0400 (Tue, 30 Sep 2025) EllapsedTime: 49.6 seconds RetCode: 0 Status: OK PackageFile: SemDist_1.42.0.tar.gz PackageFileSize: 1.953 MiB