Package: ScreenR Version: 1.12.0 Command: /home/biocbuild/R/R/bin/R CMD INSTALL ScreenR StartedAt: 2025-11-10 21:14:24 -0000 (Mon, 10 Nov 2025) EndedAt: 2025-11-10 21:15:04 -0000 (Mon, 10 Nov 2025) EllapsedTime: 39.9 seconds RetCode: 0 Status: OK