Package: Sconify Version: 1.30.0 Command: /home/biocbuild/bbs-3.22-bioc/R/bin/R CMD build --keep-empty-dirs --no-resave-data --md5 Sconify StartedAt: 2025-11-11 20:03:59 -0500 (Tue, 11 Nov 2025) EndedAt: 2025-11-11 20:04:31 -0500 (Tue, 11 Nov 2025) EllapsedTime: 32.0 seconds RetCode: 0 Status: OK PackageFile: Sconify_1.30.0.tar.gz PackageFileSize: 4.321 MiB