Package: Sconify Version: 1.28.1 Command: /home/biocbuild/bbs-3.21-bioc/R/bin/R CMD build --keep-empty-dirs --no-resave-data Sconify StartedAt: 2025-10-15 19:45:33 -0400 (Wed, 15 Oct 2025) EndedAt: 2025-10-15 19:46:05 -0400 (Wed, 15 Oct 2025) EllapsedTime: 32.0 seconds RetCode: 0 Status: OK PackageFile: Sconify_1.28.1.tar.gz PackageFileSize: 4.318 MiB