Package: Sconify Version: 1.28.0 Command: /home/biocbuild/R/R/bin/R CMD INSTALL Sconify StartedAt: 2025-10-06 20:25:33 -0000 (Mon, 06 Oct 2025) EndedAt: 2025-10-06 20:25:45 -0000 (Mon, 06 Oct 2025) EllapsedTime: 12.3 seconds RetCode: 0 Status: OK