Package: Sconify Version: 1.28.1 Command: /Library/Frameworks/R.framework/Resources/bin/R CMD INSTALL Sconify StartedAt: 2025-10-13 15:37:36 -0400 (Mon, 13 Oct 2025) EndedAt: 2025-10-13 15:37:48 -0400 (Mon, 13 Oct 2025) EllapsedTime: 12.3 seconds RetCode: 0 Status: OK