Package: Sconify Version: 1.28.1 Command: /Library/Frameworks/R.framework/Resources/bin/R CMD build --keep-empty-dirs --no-resave-data Sconify StartedAt: 2025-10-14 08:51:24 -0400 (Tue, 14 Oct 2025) EndedAt: 2025-10-14 08:52:10 -0400 (Tue, 14 Oct 2025) EllapsedTime: 46.2 seconds RetCode: 0 Status: OK PackageFile: Sconify_1.28.1.tar.gz PackageFileSize: 4.337 MiB