Package: Sconify Version: 1.30.0 Maintainer: Tyler J Burns MaintainerEmail: burns.tyler at gmail.com git_url: https://git.bioconductor.org/packages/Sconify git_branch: RELEASE_3_22 git_last_commit: 615688e git_last_commit_date: 2025-10-29 10:44:03 -0500 (Wed, 29 Oct 2025)