Package: ScaledMatrix Version: 1.18.0 Command: /home/biocbuild/R/R/bin/R CMD INSTALL ScaledMatrix StartedAt: 2025-11-13 22:03:49 -0000 (Thu, 13 Nov 2025) EndedAt: 2025-11-13 22:04:14 -0000 (Thu, 13 Nov 2025) EllapsedTime: 25.7 seconds RetCode: 0 Status: OK