Package: ScaledMatrix Version: 1.18.0 Command: /home/biocbuild/R/R/bin/R CMD build --keep-empty-dirs --no-resave-data ScaledMatrix StartedAt: 2025-11-11 04:48:02 -0000 (Tue, 11 Nov 2025) EndedAt: 2025-11-11 04:50:21 -0000 (Tue, 11 Nov 2025) EllapsedTime: 139.1 seconds RetCode: 0 Status: OK PackageFile: ScaledMatrix_1.18.0.tar.gz PackageFileSize: 372.6 KiB