Package: ScaledMatrix Version: 1.18.0 Command: /home/biocbuild/bbs-3.22-bioc/R/bin/R CMD INSTALL ScaledMatrix StartedAt: 2025-11-11 15:58:04 -0500 (Tue, 11 Nov 2025) EndedAt: 2025-11-11 15:58:24 -0500 (Tue, 11 Nov 2025) EllapsedTime: 20.0 seconds RetCode: 0 Status: OK